BEGIN:VCALENDAR
VERSION:2.0
PRODID:-//MFA Education - ECPv6.7.0//NONSGML v1.0//EN
CALSCALE:GREGORIAN
METHOD:PUBLISH
X-WR-CALNAME:MFA Education
X-ORIGINAL-URL:https://education.musicforall.org
X-WR-CALDESC:Events for MFA Education
REFRESH-INTERVAL;VALUE=DURATION:PT1H
X-Robots-Tag:noindex
X-PUBLISHED-TTL:PT1H
BEGIN:VTIMEZONE
TZID:America/Indiana/Indianapolis
BEGIN:DAYLIGHT
TZOFFSETFROM:-0500
TZOFFSETTO:-0400
TZNAME:EDT
DTSTART:20200308T070000
END:DAYLIGHT
BEGIN:STANDARD
TZOFFSETFROM:-0400
TZOFFSETTO:-0500
TZNAME:EST
DTSTART:20201101T060000
END:STANDARD
BEGIN:DAYLIGHT
TZOFFSETFROM:-0500
TZOFFSETTO:-0400
TZNAME:EDT
DTSTART:20210314T070000
END:DAYLIGHT
BEGIN:STANDARD
TZOFFSETFROM:-0400
TZOFFSETTO:-0500
TZNAME:EST
DTSTART:20211107T060000
END:STANDARD
TZID:America/Chicago
BEGIN:DAYLIGHT
TZOFFSETFROM:-0600
TZOFFSETTO:-0500
TZNAME:CDT
DTSTART:20200308T080000
END:DAYLIGHT
BEGIN:STANDARD
TZOFFSETFROM:-0500
TZOFFSETTO:-0600
TZNAME:CST
DTSTART:20201101T070000
END:STANDARD
END:VTIMEZONE
BEGIN:VEVENT
DTSTART;TZID=America/Indiana/Indianapolis:20210504T190000
DTEND;TZID=America/Indiana/Indianapolis:20210504T200000
DTSTAMP:20260421T101620
CREATED:20210108T194406Z
LAST-MODIFIED:20210108T194715Z
UID:7551-1620154800-1620158400@education.musicforall.org
SUMMARY:Mind the Gap Episode 19
DESCRIPTION:Register in advance for this webinar: https://musicforall-org.zoom.us/webinar/register/WN_-DNMq-oPTN-j07ddihBTJQ
URL:https://education.musicforall.org/event/mind-the-gap-episode-19/
ATTACH;FMTTYPE=image/jpeg:https://education.musicforall.org/wp-content/uploads/sites/4/2020/06/600x356.MIND_.THE_.GAP_.jpg
END:VEVENT
BEGIN:VEVENT
DTSTART;TZID=America/Indiana/Indianapolis:20210426T200000
DTEND;TZID=America/Indiana/Indianapolis:20210426T210000
DTSTAMP:20260421T101620
CREATED:20210415T132049Z
LAST-MODIFIED:20210415T132049Z
UID:7786-1619467200-1619470800@education.musicforall.org
SUMMARY:The SOUND180 Educator presented by Music for All and BAND the mobile app
DESCRIPTION:Grammy Music Educator Award winner Mickey Smith Jr. will talk about being a SOUND180 Educator: creating mindful\, reflective\, and proficient thinkers\, performers\, and problem-solvers in today’s classroom. \nStreaming via Zoom and the BAND mobile app. Link to register: https://musicforall-org.zoom.us/webinar/register/WN_RDTHfu81T3iGhnigzQRCUw
URL:https://education.musicforall.org/event/the-sound180-educator-presented-by-music-for-all-and-band-the-mobile-app/
ATTACH;FMTTYPE=image/png:https://education.musicforall.org/wp-content/uploads/sites/4/2021/04/Band-Hub-Webinar_SmithJr.png
END:VEVENT
BEGIN:VEVENT
DTSTART;TZID=America/Indiana/Indianapolis:20210420T190000
DTEND;TZID=America/Indiana/Indianapolis:20210420T200000
DTSTAMP:20260421T101620
CREATED:20210108T194303Z
LAST-MODIFIED:20210108T194743Z
UID:7548-1618945200-1618948800@education.musicforall.org
SUMMARY:Mind the Gap Episode 18
DESCRIPTION:Register in advance for this webinar: https://musicforall-org.zoom.us/webinar/register/WN_V19Frxb0TxWCnfT4Qr03fQ
URL:https://education.musicforall.org/event/mind-the-gap-episode-18/
ATTACH;FMTTYPE=image/jpeg:https://education.musicforall.org/wp-content/uploads/sites/4/2020/06/600x356.MIND_.THE_.GAP_.jpg
END:VEVENT
BEGIN:VEVENT
DTSTART;TZID=America/Indiana/Indianapolis:20210406T190000
DTEND;TZID=America/Indiana/Indianapolis:20210406T200000
DTSTAMP:20260421T101620
CREATED:20210108T194203Z
LAST-MODIFIED:20210108T194812Z
UID:7546-1617735600-1617739200@education.musicforall.org
SUMMARY:Mind the Gap Episode 17
DESCRIPTION:Register in advance for this webinar: https://musicforall-org.zoom.us/webinar/register/WN_gslXJgNzQlSluhThlVytSA
URL:https://education.musicforall.org/event/mind-the-gap-episode-17/
ATTACH;FMTTYPE=image/jpeg:https://education.musicforall.org/wp-content/uploads/sites/4/2020/06/600x356.MIND_.THE_.GAP_.jpg
END:VEVENT
BEGIN:VEVENT
DTSTART;TZID=America/Indiana/Indianapolis:20210316T190000
DTEND;TZID=America/Indiana/Indianapolis:20210316T200000
DTSTAMP:20260421T101620
CREATED:20210108T194047Z
LAST-MODIFIED:20210108T194911Z
UID:7544-1615921200-1615924800@education.musicforall.org
SUMMARY:Mind the Gap Episode 16
DESCRIPTION:Register in advance for this webinar: https://musicforall-org.zoom.us/webinar/register/WN_vTrx5Q-GQ82xaOM76v_Kkg
URL:https://education.musicforall.org/event/mind-the-gap-episode-16/
ATTACH;FMTTYPE=image/jpeg:https://education.musicforall.org/wp-content/uploads/sites/4/2020/06/600x356.MIND_.THE_.GAP_.jpg
END:VEVENT
BEGIN:VEVENT
DTSTART;TZID=America/Indiana/Indianapolis:20210302T190000
DTEND;TZID=America/Indiana/Indianapolis:20210302T200000
DTSTAMP:20260421T101620
CREATED:20210108T193544Z
LAST-MODIFIED:20210108T194945Z
UID:7542-1614711600-1614715200@education.musicforall.org
SUMMARY:Mind the Gap Episode 15
DESCRIPTION:Register in advance for this webinar: https://musicforall-org.zoom.us/webinar/register/WN_VeQ3giCORNOTpKiglVjqRw
URL:https://education.musicforall.org/event/mind-the-gap-episode-15/
ATTACH;FMTTYPE=image/jpeg:https://education.musicforall.org/wp-content/uploads/sites/4/2020/06/600x356.MIND_.THE_.GAP_.jpg
END:VEVENT
BEGIN:VEVENT
DTSTART;TZID=America/Indiana/Indianapolis:20210225T200000
DTEND;TZID=America/Indiana/Indianapolis:20210225T210000
DTSTAMP:20260421T101620
CREATED:20210215T220244Z
LAST-MODIFIED:20210215T220244Z
UID:7688-1614283200-1614286800@education.musicforall.org
SUMMARY:A New Hope with Bobby Lambert and Jeff Young
DESCRIPTION:Presented by Music for All and the BAND Mobile App: a much-needed dose of optimism with a slice of realism. Moderated by James Stephens. \nStreaming on Zoom and the BAND mobile app \nRegister here: https://musicforall-org.zoom.us/webinar/register/WN_wUKRLN4uRyKm6d2w8WTaJA
URL:https://education.musicforall.org/event/a-new-hope-with-bobby-lambert-and-jeff-young/
ATTACH;FMTTYPE=image/png:https://education.musicforall.org/wp-content/uploads/sites/4/2021/02/Band-Hub-Webinar_LambertYoung.png
END:VEVENT
BEGIN:VEVENT
DTSTART;TZID=America/Indiana/Indianapolis:20210216T190000
DTEND;TZID=America/Indiana/Indianapolis:20210216T200000
DTSTAMP:20260421T101620
CREATED:20210108T193353Z
LAST-MODIFIED:20210108T195014Z
UID:7540-1613502000-1613505600@education.musicforall.org
SUMMARY:Mind the Gap Episode 14
DESCRIPTION:Register in advance for this webinar: https://musicforall-org.zoom.us/webinar/register/WN_bsu3uAwhSDOmbxqkUVAYNg
URL:https://education.musicforall.org/event/mind-the-gap-episode-14/
ATTACH;FMTTYPE=image/jpeg:https://education.musicforall.org/wp-content/uploads/sites/4/2020/06/600x356.MIND_.THE_.GAP_.jpg
END:VEVENT
BEGIN:VEVENT
DTSTART;TZID=America/Indiana/Indianapolis:20210202T190000
DTEND;TZID=America/Indiana/Indianapolis:20210202T200000
DTSTAMP:20260421T101620
CREATED:20210108T192642Z
LAST-MODIFIED:20210108T195054Z
UID:7534-1612292400-1612296000@education.musicforall.org
SUMMARY:Mind the Gap Episode 13
DESCRIPTION:Register in advance for this webinar: https://musicforall-org.zoom.us/webinar/register/WN_oz97vxMNTUG3XkV-GCCfdA
URL:https://education.musicforall.org/event/mind-the-gap-episode-13/
ATTACH;FMTTYPE=image/jpeg:https://education.musicforall.org/wp-content/uploads/sites/4/2020/06/600x356.MIND_.THE_.GAP_.jpg
END:VEVENT
BEGIN:VEVENT
DTSTART;TZID=America/Indiana/Indianapolis:20210128T200000
DTEND;TZID=America/Indiana/Indianapolis:20210128T200000
DTSTAMP:20260421T101620
CREATED:20210120T213542Z
LAST-MODIFIED:20210122T163956Z
UID:7595-1611864000-1611864000@education.musicforall.org
SUMMARY:"Navigating Burnout in a Pandemic" With Nolan Jager Loyde
DESCRIPTION:Presented by Music for All and BAND. \nAs educators\, we are facing new and challenging instructional environments\, looming deadlines\, and pressure to remain academically relevant this school year. Fatigue\, anger\, confusion\, and indecisiveness are common responses we tend to have when feeling overwhelmed. You are not alone. This session will review burnout\, its physical and mental effects\, and possible solutions through this uneasy time in music education.\n\nRegister here: https://musicforall-org.zoom.us/webinar/register/WN_9FPbizu6QR2k7tx63sIH4g
URL:https://education.musicforall.org/event/navigating-burnout-in-a-pandemic-with-nolan-jager-loyde/
END:VEVENT
BEGIN:VEVENT
DTSTART;TZID=America/Indiana/Indianapolis:20210119T190000
DTEND;TZID=America/Indiana/Indianapolis:20210119T200000
DTSTAMP:20260421T101620
CREATED:20210108T195301Z
LAST-MODIFIED:20210108T195331Z
UID:7566-1611082800-1611086400@education.musicforall.org
SUMMARY:Mind the Gap Episode 12
DESCRIPTION:As part of NAMM Believe in Music Week \nIt’s All in the C(omposition) H(istory) And T(heory) – Creating Ensembles in a Virtual Environment \nWith Julie Giroux\, Jeffrey Grogan\, Susan Smith\, and David Starnes \nIn this session\, the clinicians will present classroom-tested techniques successfully employed during recent hybrid instruction. Through the synthesis of this C.H.A.T. content\, students are better able to connect the online knowledge and skills from today’s virtual world to a more comprehensive ensemble experience connected to the National Standards for Music Education \nRegistration Details Coming Soon
URL:https://education.musicforall.org/event/mind-the-gap-episode-12/
ATTACH;FMTTYPE=image/jpeg:https://education.musicforall.org/wp-content/uploads/sites/4/2020/06/600x356.MIND_.THE_.GAP_.jpg
END:VEVENT
BEGIN:VEVENT
DTSTART;TZID=America/Indiana/Indianapolis:20201215T190000
DTEND;TZID=America/Indiana/Indianapolis:20201215T200000
DTSTAMP:20260421T101620
CREATED:20200803T131058Z
LAST-MODIFIED:20200917T142815Z
UID:7108-1608058800-1608062400@education.musicforall.org
SUMMARY:Mind the Gap Episode 11
DESCRIPTION:Register in advance for this webinar: https://musicforall-org.zoom.us/webinar/register/WN_YRKuBBheSTmzHF5PcXmHtA
URL:https://education.musicforall.org/event/mind-the-gap-episode-11/
CATEGORIES:Student Teaching
ATTACH;FMTTYPE=image/jpeg:https://education.musicforall.org/wp-content/uploads/sites/4/2020/06/1920x786.WEB_.MIND_.THE_.GAP_.jpg
END:VEVENT
BEGIN:VEVENT
DTSTART;TZID=America/Indiana/Indianapolis:20201210T200000
DTEND;TZID=America/Indiana/Indianapolis:20201210T210000
DTSTAMP:20260421T101620
CREATED:20200826T155844Z
LAST-MODIFIED:20201102T204437Z
UID:7243-1607630400-1607634000@education.musicforall.org
SUMMARY:With a Little Help From My Friends Episode 6
DESCRIPTION:Register in advance for this webinar: https://musicforall-org.zoom.us/webinar/register/WN_IaPNVp2sQja1fm3EDilBgg
URL:https://education.musicforall.org/event/with-a-little-help-from-my-friends-episode-7/
END:VEVENT
BEGIN:VEVENT
DTSTART;TZID=America/Indiana/Indianapolis:20201201T190000
DTEND;TZID=America/Indiana/Indianapolis:20201201T200000
DTSTAMP:20260421T101620
CREATED:20200803T131009Z
LAST-MODIFIED:20200917T142927Z
UID:7106-1606849200-1606852800@education.musicforall.org
SUMMARY:Mind the Gap Episode 10
DESCRIPTION:Register in advance for this webinar: https://musicforall-org.zoom.us/webinar/register/WN_Go9Ah7scSaiSnBosPHZNWA
URL:https://education.musicforall.org/event/mind-the-gap-episode-10/
CATEGORIES:Student Teaching
ATTACH;FMTTYPE=image/jpeg:https://education.musicforall.org/wp-content/uploads/sites/4/2020/06/1920x786.WEB_.MIND_.THE_.GAP_.jpg
END:VEVENT
BEGIN:VEVENT
DTSTART;TZID=America/Indiana/Indianapolis:20201117T190000
DTEND;TZID=America/Indiana/Indianapolis:20201117T200000
DTSTAMP:20260421T101620
CREATED:20200803T130911Z
LAST-MODIFIED:20200917T143117Z
UID:7104-1605639600-1605643200@education.musicforall.org
SUMMARY:Mind the Gap Episode 9
DESCRIPTION:Register in advance for this webinar: https://musicforall-org.zoom.us/webinar/register/WN_vcaL3ZZET7aui0RBx_QYYA
URL:https://education.musicforall.org/event/mind-the-gap-episode-9/
CATEGORIES:Student Teaching
ATTACH;FMTTYPE=image/jpeg:https://education.musicforall.org/wp-content/uploads/sites/4/2020/06/1920x786.WEB_.MIND_.THE_.GAP_.jpg
END:VEVENT
BEGIN:VEVENT
DTSTART;TZID=America/Indiana/Indianapolis:20201029T200000
DTEND;TZID=America/Indiana/Indianapolis:20201029T210000
DTSTAMP:20260421T101620
CREATED:20200826T155650Z
LAST-MODIFIED:20200917T143242Z
UID:7238-1604001600-1604005200@education.musicforall.org
SUMMARY:With a Little Help From My Friends Episode 5
DESCRIPTION:Register in advance for this webinar: https://musicforall-org.zoom.us/webinar/register/WN_HWVV6HdSTG2xD1OG0cY3Aw
URL:https://education.musicforall.org/event/with-a-little-help-from-my-friends-episode-5/
END:VEVENT
BEGIN:VEVENT
DTSTART;TZID=America/Indiana/Indianapolis:20201020T190000
DTEND;TZID=America/Indiana/Indianapolis:20201020T200000
DTSTAMP:20260421T101620
CREATED:20200803T130808Z
LAST-MODIFIED:20200917T143420Z
UID:7102-1603220400-1603224000@education.musicforall.org
SUMMARY:Mind the Gap Episode 8
DESCRIPTION:Register in advance for this webinar: https://musicforall-org.zoom.us/webinar/register/WN_f3yB09WXQq6yDOeBllJBmQ
URL:https://education.musicforall.org/event/mind-the-gap-episode-8/
CATEGORIES:Student Teaching
ATTACH;FMTTYPE=image/jpeg:https://education.musicforall.org/wp-content/uploads/sites/4/2020/06/1920x786.WEB_.MIND_.THE_.GAP_.jpg
END:VEVENT
BEGIN:VEVENT
DTSTART;TZID=America/Indiana/Indianapolis:20201006T190000
DTEND;TZID=America/Indiana/Indianapolis:20201006T200000
DTSTAMP:20260421T101620
CREATED:20200803T130720Z
LAST-MODIFIED:20200917T143747Z
UID:7100-1602010800-1602014400@education.musicforall.org
SUMMARY:Mind the Gap Episode 7
DESCRIPTION:Register in advance for this webinar: https://musicforall-org.zoom.us/webinar/register/WN_6IIRQtJsQDmPFade-0EERA
URL:https://education.musicforall.org/event/mind-the-gap-episode-7/
CATEGORIES:Student Teaching
ATTACH;FMTTYPE=image/jpeg:https://education.musicforall.org/wp-content/uploads/sites/4/2020/06/1920x786.WEB_.MIND_.THE_.GAP_.jpg
END:VEVENT
BEGIN:VEVENT
DTSTART;TZID=America/Indiana/Indianapolis:20200922T190000
DTEND;TZID=America/Indiana/Indianapolis:20200922T200000
DTSTAMP:20260421T101620
CREATED:20200803T130631Z
LAST-MODIFIED:20200917T143552Z
UID:7098-1600801200-1600804800@education.musicforall.org
SUMMARY:Mind the Gap Episode 6
DESCRIPTION:Register in advance for this webinar: https://musicforall-org.zoom.us/webinar/register/WN_ZHgv4cAISVmjBx5PhdQ1tQ
URL:https://education.musicforall.org/event/mind-the-gap-episode-6/
CATEGORIES:Student Teaching
ATTACH;FMTTYPE=image/jpeg:https://education.musicforall.org/wp-content/uploads/sites/4/2020/06/1920x786.WEB_.MIND_.THE_.GAP_.jpg
END:VEVENT
BEGIN:VEVENT
DTSTART;TZID=America/Indiana/Indianapolis:20200917T200000
DTEND;TZID=America/Indiana/Indianapolis:20200917T210000
DTSTAMP:20260421T101620
CREATED:20200806T134410Z
LAST-MODIFIED:20200917T143929Z
UID:7144-1600372800-1600376400@education.musicforall.org
SUMMARY:With a Little Help From My Friends - Episode 4
DESCRIPTION:Register in advance for this webinar: https://musicforall-org.zoom.us/webinar/register/WN_EIW3nGAbQL-3cnF4Sd2VqA
URL:https://education.musicforall.org/event/with-a-little-help-from-my-friends-episode-4/
ATTACH;FMTTYPE=image/jpeg:https://education.musicforall.org/wp-content/uploads/sites/4/2020/06/LITTLE.HELP_.GENERAL.600X356.jpg
END:VEVENT
BEGIN:VEVENT
DTSTART;TZID=America/Indiana/Indianapolis:20200908T190000
DTEND;TZID=America/Indiana/Indianapolis:20200908T200000
DTSTAMP:20260421T101620
CREATED:20200803T130434Z
LAST-MODIFIED:20200803T131221Z
UID:7096-1599591600-1599595200@education.musicforall.org
SUMMARY:Mind the Gap Episode 5
DESCRIPTION:
URL:https://education.musicforall.org/event/mind-the-gap-episode-5/
CATEGORIES:Student Teaching
ATTACH;FMTTYPE=image/jpeg:https://education.musicforall.org/wp-content/uploads/sites/4/2020/06/1920x786.WEB_.MIND_.THE_.GAP_.jpg
END:VEVENT
BEGIN:VEVENT
DTSTART;TZID=America/Indiana/Indianapolis:20200902T200000
DTEND;TZID=America/Indiana/Indianapolis:20200902T210000
DTSTAMP:20260421T101620
CREATED:20200826T155447Z
LAST-MODIFIED:20200826T155505Z
UID:7235-1599076800-1599080400@education.musicforall.org
SUMMARY:BAND Director Hub Live Webinar with Dr. Scott N. Edgar and Bob Morrison
DESCRIPTION:
URL:https://education.musicforall.org/event/band-director-hub-live-webinar-with-dr-scott-n-edgar-and-bob-morrison/
CATEGORIES:Partnership
ATTACH;FMTTYPE=image/png:https://education.musicforall.org/wp-content/uploads/sites/4/2020/08/Band-Hub-Webinar_Episode-6_Scott_Bob.png
END:VEVENT
BEGIN:VEVENT
DTSTART;TZID=America/Indiana/Indianapolis:20200827T200000
DTEND;TZID=America/Indiana/Indianapolis:20200827T210000
DTSTAMP:20260421T101620
CREATED:20200714T191018Z
LAST-MODIFIED:20200714T191018Z
UID:6954-1598558400-1598562000@education.musicforall.org
SUMMARY:With a Little Help from My Friends - Episode 3
DESCRIPTION:
URL:https://education.musicforall.org/event/with-a-little-help-from-my-friends-episode-3/
ATTACH;FMTTYPE=image/jpeg:https://education.musicforall.org/wp-content/uploads/sites/4/2020/06/LITTLE.HELP_.GENERAL.600X356.jpg
END:VEVENT
BEGIN:VEVENT
DTSTART;TZID=America/Indiana/Indianapolis:20200818T190000
DTEND;TZID=America/Indiana/Indianapolis:20200818T200000
DTSTAMP:20260421T101620
CREATED:20200730T192328Z
LAST-MODIFIED:20200730T192332Z
UID:7089-1597777200-1597780800@education.musicforall.org
SUMMARY:Mind the Gap - Episode 4
DESCRIPTION:
URL:https://education.musicforall.org/event/mind-the-gap-episode-4/
ATTACH;FMTTYPE=image/jpeg:https://education.musicforall.org/wp-content/uploads/sites/4/2020/06/600x356.MIND_.THE_.GAP_.jpg
END:VEVENT
BEGIN:VEVENT
DTSTART;TZID=America/Indiana/Indianapolis:20200811T200000
DTEND;TZID=America/Indiana/Indianapolis:20200811T210000
DTSTAMP:20260421T101620
CREATED:20200730T191410Z
LAST-MODIFIED:20200730T191415Z
UID:7084-1597176000-1597179600@education.musicforall.org
SUMMARY:Band Director Hub Live Webinar with James Stephens
DESCRIPTION:
URL:https://education.musicforall.org/event/band-director-hub-live-webinar-with-james-stephens/
CATEGORIES:Partnership
ATTACH;FMTTYPE=image/png:https://education.musicforall.org/wp-content/uploads/sites/4/2020/07/Band-Hub-Webinar_Episode-6_James_Stephens600x450.png
END:VEVENT
BEGIN:VEVENT
DTSTART;TZID=America/Indiana/Indianapolis:20200804T190000
DTEND;TZID=America/Indiana/Indianapolis:20200804T200000
DTSTAMP:20260421T101620
CREATED:20200714T190855Z
LAST-MODIFIED:20200803T153337Z
UID:6951-1596567600-1596571200@education.musicforall.org
SUMMARY:Mind the Gap - Episode 3
DESCRIPTION:
URL:https://education.musicforall.org/event/mind-the-gap-episode-3/
CATEGORIES:Student Teaching
ATTACH;FMTTYPE=image/jpeg:https://education.musicforall.org/wp-content/uploads/sites/4/2020/06/1920x786.WEB_.MIND_.THE_.GAP_.jpg
END:VEVENT
BEGIN:VEVENT
DTSTART;VALUE=DATE:20200729
DTEND;VALUE=DATE:20200730
DTSTAMP:20260421T101620
CREATED:20200723T193755Z
LAST-MODIFIED:20200723T193758Z
UID:7028-1595980800-1596067199@education.musicforall.org
SUMMARY:Social Emotional Learning
DESCRIPTION:
URL:https://education.musicforall.org/event/social-emotional-learning/
ATTACH;FMTTYPE=image/jpeg:https://education.musicforall.org/wp-content/uploads/sites/4/2020/07/1080X1080.SEL_.MFA_.GRAPHIC.jpg
END:VEVENT
BEGIN:VEVENT
DTSTART;TZID=America/Indiana/Indianapolis:20200724T103000
DTEND;TZID=America/Indiana/Indianapolis:20200724T153000
DTSTAMP:20260421T101620
CREATED:20200714T190715Z
LAST-MODIFIED:20200714T190718Z
UID:6947-1595586600-1595604600@education.musicforall.org
SUMMARY:ISO Conducting Symposium
DESCRIPTION:Led by ISO Associate Conductor Jacob Joyce\, this free\, four-day symposium is designed for high school and college students. Learn more\, view the full schedule\, and register for the symposium at education.musicforall.org/conducting. 
URL:https://education.musicforall.org/event/iso-conducting-symposium-4/
CATEGORIES:Partnership
END:VEVENT
BEGIN:VEVENT
DTSTART;TZID=America/Indiana/Indianapolis:20200723T103000
DTEND;TZID=America/Indiana/Indianapolis:20200723T153000
DTSTAMP:20260421T101620
CREATED:20200714T190552Z
LAST-MODIFIED:20200714T190556Z
UID:6943-1595500200-1595518200@education.musicforall.org
SUMMARY:ISO Conducting Symposium
DESCRIPTION:Led by ISO Associate Conductor Jacob Joyce\, this free\, four-day symposium is designed for high school and college students. Learn more\, view the full schedule\, and register for the symposium at education.musicforall.org/conducting. 
URL:https://education.musicforall.org/event/iso-conducting-symposium-3/
CATEGORIES:Partnership
END:VEVENT
BEGIN:VEVENT
DTSTART;TZID=America/Chicago:20200721T104500
DTEND;TZID=America/Chicago:20200721T111500
DTSTAMP:20260421T101620
CREATED:20200714T185301Z
LAST-MODIFIED:20200714T185305Z
UID:6929-1595328300-1595330100@education.musicforall.org
SUMMARY:Music for All Virtual Booth at TBA
DESCRIPTION:Monday\, July 20 | 4:00-4:30 p.m. CST  \nTuesday\, July 21 | 10:30-11:00 a.m. CST \nMusic for All will have a virtual booth at TBA where you can learn more about our latest endeavors.
URL:https://education.musicforall.org/event/music-for-all-virtual-booth-at-tba-2/
CATEGORIES:Convention
END:VEVENT
END:VCALENDAR